BEGIN:VCALENDAR
VERSION:2.0
PRODID:-//hacksw/handcal//NONSGML v1.0//EN
BEGIN:VEVENT
SUMMARY:Absence MRA JA
UID:3f9b9044-5f35-470b-8d6c-ecbabedd3461
DTSTART:20260616T060000Z
DTEND:20260616T070000Z
LOCATION:Localisation   
CATEGORIES:Administratif
STATUS:
URL;VALUE=URI:https://www.les3m-marche-nordique.com/evenements/2026/06/16/absence-mra-ja-2444020
END:VEVENT
END:VCALENDAR
