BEGIN:VCALENDAR
VERSION:2.0
PRODID:-//hacksw/handcal//NONSGML v1.0//EN
BEGIN:VEVENT
SUMMARY:Absence MRA JA
UID:f0cb1451-6b3c-44a2-ba6e-b07377696552
DTSTART:20260618T060000Z
DTEND:20260618T070000Z
LOCATION:Localisation   
CATEGORIES:Administratif
STATUS:
URL;VALUE=URI:https://www.les3m-marche-nordique.com/evenements/2026/06/18/absence-mra-ja-2444021
END:VEVENT
END:VCALENDAR
